BEGIN:VCALENDAR
VERSION:2.0
PRODID:-//Brinkmann Coffee Consulting - ECPv6.15.11//NONSGML v1.0//EN
CALSCALE:GREGORIAN
METHOD:PUBLISH
X-WR-CALNAME:Brinkmann Coffee Consulting
X-ORIGINAL-URL:https://kaffeeschule.com
X-WR-CALDESC:Veranstaltungen für Brinkmann Coffee Consulting
REFRESH-INTERVAL;VALUE=DURATION:PT1H
X-Robots-Tag:noindex
X-PUBLISHED-TTL:PT1H
BEGIN:VTIMEZONE
TZID:UTC
BEGIN:STANDARD
TZOFFSETFROM:+0000
TZOFFSETTO:+0000
TZNAME:UTC
DTSTART:20200101T000000
END:STANDARD
END:VTIMEZONE
BEGIN:VEVENT
DTSTART;TZID=UTC:20211115T100000
DTEND;TZID=UTC:20211119T170000
DTSTAMP:20260422T142602
CREATED:20210819T133223Z
LAST-MODIFIED:20210819T133540Z
UID:7159-1636970400-1637341200@kaffeeschule.com
SUMMARY:Kaffee Experte IHK
DESCRIPTION:
URL:https://kaffeeschule.com/event/kaffee-experte-ihk/
CATEGORIES:DIVI,Kaffee_Experte
ATTACH;FMTTYPE=image/png:https://kaffeeschule.com/wp-content/uploads/2018/06/KaffeeExperte.png
END:VEVENT
END:VCALENDAR