BEGIN:VCALENDAR
VERSION:2.0
PRODID:-//Brinkmann Coffee Consulting - ECPv6.15.11//NONSGML v1.0//EN
CALSCALE:GREGORIAN
METHOD:PUBLISH
X-WR-CALNAME:Brinkmann Coffee Consulting
X-ORIGINAL-URL:https://kaffeeschule.com
X-WR-CALDESC:Veranstaltungen für Brinkmann Coffee Consulting
REFRESH-INTERVAL;VALUE=DURATION:PT1H
X-Robots-Tag:noindex
X-PUBLISHED-TTL:PT1H
BEGIN:VTIMEZONE
TZID:UTC
BEGIN:STANDARD
TZOFFSETFROM:+0000
TZOFFSETTO:+0000
TZNAME:UTC
DTSTART:20210101T000000
END:STANDARD
END:VTIMEZONE
BEGIN:VEVENT
DTSTART;TZID=UTC:20221107T100000
DTEND;TZID=UTC:20221111T170000
DTSTAMP:20260422T124042
CREATED:20211122T135454Z
LAST-MODIFIED:20221007T131559Z
UID:7623-1667815200-1668186000@kaffeeschule.com
SUMMARY:Kaffee-Experte IHK
DESCRIPTION:
URL:https://kaffeeschule.com/event/kaffee-experte-ihk-3/
CATEGORIES:DIVI,Kaffee_Experte
ATTACH;FMTTYPE=image/png:https://kaffeeschule.com/wp-content/uploads/2018/06/KaffeeExperte.png
END:VEVENT
END:VCALENDAR